BEGIN:VCALENDAR
VERSION:2.0
PRODID:-//Empty Arms Bereavement - ECPv6.15.20//NONSGML v1.0//EN
CALSCALE:GREGORIAN
METHOD:PUBLISH
X-ORIGINAL-URL:https://ashleycadaret.com
X-WR-CALDESC:Events for Empty Arms Bereavement
REFRESH-INTERVAL;VALUE=DURATION:PT1H
X-Robots-Tag:noindex
X-PUBLISHED-TTL:PT1H
BEGIN:VTIMEZONE
TZID:America/Detroit
BEGIN:DAYLIGHT
TZOFFSETFROM:-0500
TZOFFSETTO:-0400
TZNAME:EDT
DTSTART:20220313T070000
END:DAYLIGHT
BEGIN:STANDARD
TZOFFSETFROM:-0400
TZOFFSETTO:-0500
TZNAME:EST
DTSTART:20221106T060000
END:STANDARD
BEGIN:DAYLIGHT
TZOFFSETFROM:-0500
TZOFFSETTO:-0400
TZNAME:EDT
DTSTART:20230312T070000
END:DAYLIGHT
BEGIN:STANDARD
TZOFFSETFROM:-0400
TZOFFSETTO:-0500
TZNAME:EST
DTSTART:20231105T060000
END:STANDARD
BEGIN:DAYLIGHT
TZOFFSETFROM:-0500
TZOFFSETTO:-0400
TZNAME:EDT
DTSTART:20240310T070000
END:DAYLIGHT
BEGIN:STANDARD
TZOFFSETFROM:-0400
TZOFFSETTO:-0500
TZNAME:EST
DTSTART:20241103T060000
END:STANDARD
END:VTIMEZONE
BEGIN:VEVENT
DTSTART;TZID=America/Detroit:20231113T193000
DTEND;TZID=America/Detroit:20231113T210000
DTSTAMP:20260425T081740
CREATED:20230408T124724Z
LAST-MODIFIED:20230411T141543Z
UID:23253-1699903800-1699909200@ashleycadaret.com
SUMMARY:Twin Loss Support Group
DESCRIPTION:2nd Monday of each month from 7:30-9PM  \nThis group is open to anyone who has experienced a loss with multiples while parenting their survivor(s). Lisa facilitates this support circle\, which addresses the unique experience of holding ecstatic joy and crushing grief simultaneously.  This group meets the second Monday of each month from 7:30-9:00PM.\nIf you’re interested in joining this support group\, please fill out our contact form.
URL:https://ashleycadaret.com/event/twin-loss-support-group/
LOCATION:Zoom
CATEGORIES:Support Group
END:VEVENT
BEGIN:VEVENT
DTSTART;TZID=America/Detroit:20231114T190000
DTEND;TZID=America/Detroit:20231114T210000
DTSTAMP:20260425T081740
CREATED:20230408T125131Z
LAST-MODIFIED:20230411T140326Z
UID:23259-1699988400-1699995600@ashleycadaret.com
SUMMARY:Termination for Medical Reasons Drop-In Support Group
DESCRIPTION:2nd Thursday of each month from 7:00-9PM  \nThis group is open to all who have experienced the agonizing decision to end a pregnancy because of a life-limiting prenatal diagnosis. If you’re reading this\, you know that this type of loss is particularly complicated. In addition to grief for the baby\, many people struggle with additional guilt\, fear of judgment\, and trauma. Lindsey and Libby create a space that is is ultra safe\, ultra accepting\, and ultra compassionate. You and your story and your baby belong here. This group meets the second Thursday of each month from 7:00-9:00PM. \nIf you’re interested in joining this support group\, please fill out our contact form. Please note\, this is our only group that is open to folks living outside of MA.
URL:https://ashleycadaret.com/event/termination-for-medical-reasons-drop-in-support-group/
LOCATION:Zoom
CATEGORIES:Support Group
END:VEVENT
BEGIN:VEVENT
DTSTART;TZID=America/Detroit:20231116T193000
DTEND;TZID=America/Detroit:20231116T210000
DTSTAMP:20260425T081740
CREATED:20230408T124612Z
LAST-MODIFIED:20230411T140229Z
UID:23250-1700163000-1700168400@ashleycadaret.com
SUMMARY:Subsequent Choices Support Group
DESCRIPTION:3rd Thursday of each month from 7:30-9PM \nSubsequent Choices meetings address the ways in which grief affects a family’s journey towards another baby. \nThis group is open to people who are currently pregnant\, people who are currently pregnant through surrogacy\, or in an active adoption process. \nFacilitators Jenn and Amanda will hold this meeting for you. This group meets the third Thursday of each month from 7:30-9:00PM. \n*please note that our Subsequent Choices meeting is intended for those who have participated in or are currently attending at least one of our support groups to process their loss. As this group focuses on next steps\, there is less space to process loss in this group. \nIf you’re interested in joining this support group\, please fill out our contact form.
URL:https://ashleycadaret.com/event/subsequent-choices-support-group/
LOCATION:Zoom
CATEGORIES:Support Group
END:VEVENT
END:VCALENDAR